BEGIN:VCALENDAR
VERSION:2.0
PRODID:-// - ECPv6.5.1.6//NONSGML v1.0//EN
CALSCALE:GREGORIAN
METHOD:PUBLISH
X-ORIGINAL-URL:http://atuct.scam-tp.com
X-WR-CALDESC:évènements pour 
REFRESH-INTERVAL;VALUE=DURATION:PT1H
X-Robots-Tag:noindex
X-PUBLISHED-TTL:PT1H
BEGIN:VTIMEZONE
TZID:Europe/Paris
BEGIN:DAYLIGHT
TZOFFSETFROM:+0100
TZOFFSETTO:+0200
TZNAME:CEST
DTSTART:20240331T010000
END:DAYLIGHT
BEGIN:STANDARD
TZOFFSETFROM:+0200
TZOFFSETTO:+0100
TZNAME:CET
DTSTART:20241027T010000
END:STANDARD
END:VTIMEZONE
BEGIN:VEVENT
DTSTART;TZID=Europe/Paris:20240302T093000
DTEND;TZID=Europe/Paris:20240302T150000
DTSTAMP:20260422T015815
CREATED:20240329T134439Z
LAST-MODIFIED:20240329T134439Z
UID:358-1709371800-1709391600@atuct.scam-tp.com
SUMMARY:Assemblées générales
DESCRIPTION:Assemblée générale extraordinaire suivie de l’Assemblée générale ordinaire.
URL:http://atuct.scam-tp.com/event/assemblees-generales/
LOCATION:MJC de Semalens\, 70 Rue les Promenades\, Semalens\, 81570\, France
END:VEVENT
END:VCALENDAR