BEGIN:VCALENDAR
VERSION:2.0
PRODID:-// - ECPv6.5.1.6//NONSGML v1.0//EN
CALSCALE:GREGORIAN
METHOD:PUBLISH
X-ORIGINAL-URL:http://atuct.scam-tp.com
X-WR-CALDESC:évènements pour 
REFRESH-INTERVAL;VALUE=DURATION:PT1H
X-Robots-Tag:noindex
X-PUBLISHED-TTL:PT1H
BEGIN:VTIMEZONE
TZID:Europe/Paris
BEGIN:DAYLIGHT
TZOFFSETFROM:+0100
TZOFFSETTO:+0200
TZNAME:CEST
DTSTART:20240331T010000
END:DAYLIGHT
BEGIN:STANDARD
TZOFFSETFROM:+0200
TZOFFSETTO:+0100
TZNAME:CET
DTSTART:20241027T010000
END:STANDARD
END:VTIMEZONE
BEGIN:VEVENT
DTSTART;TZID=Europe/Paris:20240316T090000
DTEND;TZID=Europe/Paris:20240317T170000
DTSTAMP:20260422T015647
CREATED:20240329T141844Z
LAST-MODIFIED:20240329T160231Z
UID:370-1710579600-1710694800@atuct.scam-tp.com
SUMMARY:Formation ATUCT avec Didier Fischer à Sémalens
DESCRIPTION:Formation organisée par l’ATUCT ouverte à tous (Vivea et non Vivea).
URL:http://atuct.scam-tp.com/event/formation-atuct-avec-didier-fischer-a-semalens/
LOCATION:Prat Majou\, Semalens\, 81570\, France
ATTACH;FMTTYPE=image/jpeg:http://atuct.scam-tp.com/wp-content/uploads/2024/03/Design-1sans-titre.jpg
END:VEVENT
END:VCALENDAR