BEGIN:VCALENDAR
VERSION:2.0
PRODID:-// - ECPv6.5.1.6//NONSGML v1.0//EN
CALSCALE:GREGORIAN
METHOD:PUBLISH
X-ORIGINAL-URL:http://atuct.scam-tp.com
X-WR-CALDESC:évènements pour 
REFRESH-INTERVAL;VALUE=DURATION:PT1H
X-Robots-Tag:noindex
X-PUBLISHED-TTL:PT1H
BEGIN:VTIMEZONE
TZID:Europe/Paris
BEGIN:DAYLIGHT
TZOFFSETFROM:+0100
TZOFFSETTO:+0200
TZNAME:CEST
DTSTART:20240331T010000
END:DAYLIGHT
BEGIN:STANDARD
TZOFFSETFROM:+0200
TZOFFSETTO:+0100
TZNAME:CET
DTSTART:20241027T010000
END:STANDARD
END:VTIMEZONE
BEGIN:VEVENT
DTSTART;VALUE=DATE:20240324
DTEND;VALUE=DATE:20240325
DTSTAMP:20260422T015729
CREATED:20240329T142754Z
LAST-MODIFIED:20240329T142909Z
UID:377-1711238400-1711324799@atuct.scam-tp.com
SUMMARY:Journée du Melsat à Mazamet
DESCRIPTION:Après le succès de la seconde édition\, la « Fête du Melsat » est reconduite lors du dernier marché d’hiver de la saison.\nEn plus des démonstrations de chiens de troupeau\, les charcutiers de l’association « Melsat de Mazamet » proposeront des dégustations et la vente de Melsat. Patrick ne ménage pas ses efforts pour faire en sorte que cette manifestation soit un réel succès
URL:http://atuct.scam-tp.com/event/journee-du-melsat-a-mazamet/
LOCATION:Mazamet\, Mazamet\, 81200\, France
END:VEVENT
END:VCALENDAR