BEGIN:VCALENDAR
VERSION:2.0
PRODID:-// - ECPv6.5.1.6//NONSGML v1.0//EN
CALSCALE:GREGORIAN
METHOD:PUBLISH
X-ORIGINAL-URL:http://atuct.scam-tp.com
X-WR-CALDESC:évènements pour 
REFRESH-INTERVAL;VALUE=DURATION:PT1H
X-Robots-Tag:noindex
X-PUBLISHED-TTL:PT1H
BEGIN:VTIMEZONE
TZID:Europe/Paris
BEGIN:DAYLIGHT
TZOFFSETFROM:+0100
TZOFFSETTO:+0200
TZNAME:CEST
DTSTART:20240331T010000
END:DAYLIGHT
BEGIN:STANDARD
TZOFFSETFROM:+0200
TZOFFSETTO:+0100
TZNAME:CET
DTSTART:20241027T010000
END:STANDARD
END:VTIMEZONE
BEGIN:VEVENT
DTSTART;TZID=Europe/Paris:20240707T093000
DTEND;TZID=Europe/Paris:20240707T170000
DTSTAMP:20260421T210427
CREATED:20240329T143820Z
LAST-MODIFIED:20240329T143901Z
UID:384-1720344600-1720371600@atuct.scam-tp.com
SUMMARY:Journée de la chasse
DESCRIPTION:Déambulations dans la manifestation avec les brebis.
URL:http://atuct.scam-tp.com/event/journee-de-la-chasse/
LOCATION:Hauterive\, Auterive\, 31190\, France
END:VEVENT
END:VCALENDAR