BEGIN:VCALENDAR
VERSION:2.0
PRODID:-// - ECPv6.5.1.6//NONSGML v1.0//EN
CALSCALE:GREGORIAN
METHOD:PUBLISH
X-ORIGINAL-URL:http://atuct.scam-tp.com
X-WR-CALDESC:évènements pour 
REFRESH-INTERVAL;VALUE=DURATION:PT1H
X-Robots-Tag:noindex
X-PUBLISHED-TTL:PT1H
BEGIN:VTIMEZONE
TZID:Europe/Paris
BEGIN:DAYLIGHT
TZOFFSETFROM:+0100
TZOFFSETTO:+0200
TZNAME:CEST
DTSTART:20240331T010000
END:DAYLIGHT
BEGIN:STANDARD
TZOFFSETFROM:+0200
TZOFFSETTO:+0100
TZNAME:CET
DTSTART:20241027T010000
END:STANDARD
END:VTIMEZONE
BEGIN:VEVENT
DTSTART;TZID=Europe/Paris:20240815T080000
DTEND;TZID=Europe/Paris:20240815T170000
DTSTAMP:20260421T195312
CREATED:20240329T144100Z
LAST-MODIFIED:20240329T144100Z
UID:387-1723708800-1723741200@atuct.scam-tp.com
SUMMARY:Démonstration
DESCRIPTION:Démonstration à laquelle nous nous rendons tous les ans. Grande manifestation des agriculteurs. Démonstration de matériels\, transhumance…
URL:http://atuct.scam-tp.com/event/demonstration/
LOCATION:Payrac\, Payrac\, 46350\, France
END:VEVENT
END:VCALENDAR