BEGIN:VCALENDAR
VERSION:2.0
PRODID:-// - ECPv6.5.1.6//NONSGML v1.0//EN
CALSCALE:GREGORIAN
METHOD:PUBLISH
X-ORIGINAL-URL:http://atuct.scam-tp.com
X-WR-CALDESC:évènements pour 
REFRESH-INTERVAL;VALUE=DURATION:PT1H
X-Robots-Tag:noindex
X-PUBLISHED-TTL:PT1H
BEGIN:VTIMEZONE
TZID:Europe/Paris
BEGIN:DAYLIGHT
TZOFFSETFROM:+0100
TZOFFSETTO:+0200
TZNAME:CEST
DTSTART:20240331T010000
END:DAYLIGHT
BEGIN:STANDARD
TZOFFSETFROM:+0200
TZOFFSETTO:+0100
TZNAME:CET
DTSTART:20241027T010000
END:STANDARD
END:VTIMEZONE
BEGIN:VEVENT
DTSTART;VALUE=DATE:20240914
DTEND;VALUE=DATE:20240916
DTSTAMP:20260421T182848
CREATED:20240405T083938Z
LAST-MODIFIED:20240405T083938Z
UID:409-1726272000-1726444799@atuct.scam-tp.com
SUMMARY:Fête médiévale à Montauban
DESCRIPTION:Démonstration de chiens de troupeau
URL:http://atuct.scam-tp.com/event/fete-medievale-a-montauban/
LOCATION:montauban\, Montauban\, 82000\, France
END:VEVENT
BEGIN:VEVENT
DTSTART;TZID=Europe/Paris:20240914T090000
DTEND;TZID=Europe/Paris:20240915T170000
DTSTAMP:20260421T182848
CREATED:20240329T144611Z
LAST-MODIFIED:20240329T144611Z
UID:394-1726304400-1726419600@atuct.scam-tp.com
SUMMARY:Campestral en Lauragais
DESCRIPTION:Aureville vous invite à fêter la quatorzième édition de son Campestral en Lauragais : une grande fête champêtre et occitane avec entrée libre et gratuite.\nOrganisée pour sa dernière édition les 17 et 18 septembre 2023\, cette manifestation culturelle est devenue aujourd’hui une véritable institution en Midi Pyrénées. Dans ce cadre nous sommes sollicité pour faire une démonstration de chiens de troupeau.
URL:http://atuct.scam-tp.com/event/campestral-en-lauragais/
LOCATION:Aureville\, Aureville\, 31320\, France
END:VEVENT
END:VCALENDAR