BEGIN:VCALENDAR
VERSION:2.0
PRODID:-// - ECPv6.5.1.6//NONSGML v1.0//EN
CALSCALE:GREGORIAN
METHOD:PUBLISH
X-ORIGINAL-URL:http://atuct.scam-tp.com
X-WR-CALDESC:évènements pour 
REFRESH-INTERVAL;VALUE=DURATION:PT1H
X-Robots-Tag:noindex
X-PUBLISHED-TTL:PT1H
BEGIN:VTIMEZONE
TZID:Europe/Paris
BEGIN:DAYLIGHT
TZOFFSETFROM:+0100
TZOFFSETTO:+0200
TZNAME:CEST
DTSTART:20240331T010000
END:DAYLIGHT
BEGIN:STANDARD
TZOFFSETFROM:+0200
TZOFFSETTO:+0100
TZNAME:CET
DTSTART:20241027T010000
END:STANDARD
END:VTIMEZONE
BEGIN:VEVENT
DTSTART;VALUE=DATE:20240928
DTEND;VALUE=DATE:20240930
DTSTAMP:20260421T182751
CREATED:20240405T084237Z
LAST-MODIFIED:20240405T084237Z
UID:412-1727481600-1727654399@atuct.scam-tp.com
SUMMARY:Comice agricole de Montbeton
DESCRIPTION:Grande foire agricole\, qui est une vitrine sur le Tarn et Garonne. Démonstration de chiens de troupeau.
URL:http://atuct.scam-tp.com/event/comice-agricole-de-montbeton/
LOCATION:Montbeton\, Montbeton\, 82290\, France
END:VEVENT
END:VCALENDAR